BEGIN:VCALENDAR
VERSION:2.0
PRODID:-//Capital Wheel at National Harbor - ECPv6.15.4//NONSGML v1.0//EN
CALSCALE:GREGORIAN
METHOD:PUBLISH
X-ORIGINAL-URL:https://thecapitalwheel.com
X-WR-CALDESC:Events for Capital Wheel at National Harbor
REFRESH-INTERVAL;VALUE=DURATION:PT1H
X-Robots-Tag:noindex
X-PUBLISHED-TTL:PT1H
BEGIN:VTIMEZONE
TZID:America/Halifax
BEGIN:DAYLIGHT
TZOFFSETFROM:-0400
TZOFFSETTO:-0300
TZNAME:ADT
DTSTART:20260308T060000
END:DAYLIGHT
BEGIN:STANDARD
TZOFFSETFROM:-0300
TZOFFSETTO:-0400
TZNAME:AST
DTSTART:20261101T050000
END:STANDARD
END:VTIMEZONE
BEGIN:VEVENT
DTSTART;TZID=America/Halifax:20260425T100000
DTEND;TZID=America/Halifax:20260425T220000
DTSTAMP:20260425T142912
CREATED:20260219T164856Z
LAST-MODIFIED:20260219T164856Z
UID:10009933-1777111200-1777154400@thecapitalwheel.com
SUMMARY:The Capital Wheel
DESCRIPTION:Take in the birds eye view of the nation’s capital\, Washington Monument\, National Harbor and the Potomac River.
URL:https://thecapitalwheel.com/future-events/the-capital-wheel-6/2026-04-25/
CATEGORIES:Capital Wheel Hours
ATTACH;FMTTYPE=image/jpeg:https://thecapitalwheel.com/wp-content/uploads/2023/04/wheel-calendar.jpg
END:VEVENT
BEGIN:VEVENT
DTSTART;TZID=America/Halifax:20260427T160000
DTEND;TZID=America/Halifax:20260427T220000
DTSTAMP:20260425T142912
CREATED:20260316T161213Z
LAST-MODIFIED:20260316T161214Z
UID:10011474-1777305600-1777327200@thecapitalwheel.com
SUMMARY:The Capital Wheel
DESCRIPTION:
URL:https://thecapitalwheel.com/future-events/the-capital-wheel-3-2-2/2026-04-27/
CATEGORIES:Capital Wheel Hours
ATTACH;FMTTYPE=image/jpeg:https://thecapitalwheel.com/wp-content/uploads/2023/06/the-cap-wheel-sky.jpg
END:VEVENT
END:VCALENDAR